PDS_VERSION_ID = PDS3
DD_VERSION_ID = PDSCAT1R100
LABEL_REVISION_NOTE = "2017-10-27, David P. Mayer (USGS), initial PDS3 label pointing to GeoTIFF;"
RECORD_TYPE = FIXED_LENGTH
RECORD_BYTES = 7508
TARGET_NAME = MARS
^IMAGE = ("B18_016575_1978_B17_016219_1978_20m_slope_20m.tif", 27752 )
OBJECT = IMAGE
  LINES = 3385
  LINE_SAMPLES = 1877
  SAMPLE_BITS = 32
  SAMPLE_TYPE = IEEE_REAL
  BANDS = 1
  BAND_STORAGE_TYPE = BAND_SEQUENTIAL
  SCALING_FACTOR = 1.0
  OFFSET = 0.0
END_OBJECT = IMAGE
OBJECT = IMAGE_MAP_PROJECTION
  MAP_PROJECTION_TYPE = EQUIRECTANGULAR
  A_AXIS_RADIUS = 3396.19
  B_AXIS_RADIUS = 3396.19
  C_AXIS_RADIUS = 3396.19
  FIRST_STANDARD_PARALLEL = N/A
  SECOND_STANDARD_PARALLEL = N/A
  POSITIVE_LONGITUDE_DIRECTION = EAST
  CENTER_LATITUDE = 0.0
  CENTER_LONGITUDE = 180.0
  REFERENCE_LATITUDE = N/A
  REFERENCE_LONGITUDE = N/A
  LINE_FIRST_PIXEL = 1
  LINE_LAST_PIXEL = 3385
  SAMPLE_FIRST_PIXEL = 1
  SAMPLE_LAST_PIXEL = 1877
  MAP_PROJECTION_ROTATION = 0.0
  MAP_RESOLUTION = 2933.8178460299546
  MAP_SCALE = 20.203946064176
  MAXIMUM_LATITUDE = 18.23783984149015
  MINIMUM_LATITUDE = 17.08405314522999
  EASTERNMOST_LONGITUDE = 77.57833793034689
  WESTERNMOST_LONGITUDE = 76.93855724234679
  LINE_PROJECTION_OFFSET = 53505.99999999994
  SAMPLE_PROJECTION_OFFSET = 302362.9999999976
  COORDINATE_SYSTEM_TYPE = "BODY-FIXED ROTATING"
  COORDINATE_SYSTEM_NAME = PLANETOCENTRIC
  PROJECTION_LATITUDE_TYPE = PLANETOCENTRIC
END_OBJECT = IMAGE_MAP_PROJECTION
END
