Object = IsisCube
  Object = Core
    StartByte = 27752
    ^Core = B18_016575_1978_B17_016219_1978_20m_slope_20m.tif
    Format = BandSequential
    Group = Dimensions
      Samples = 1877
      Lines = 3385
      Bands = 1
    End_Group
    Group = Pixels
      Type = Real
      ByteOrder = Lsb
      Base = 0.0
      Multiplier = 1.0
    End_Group
  End_Object
  Group = Mapping
    TargetName = Mars
    EquatorialRadius = 3396190.0
    PolarRadius = 3396190.0
    LatitudeType = Planetocentric
    LongitudeDirection = PositiveEast
    LongitudeDomain = 180
    MinimumLatitude = 17.0840531452299906
    MinimumLongitude = 76.9385572423467892
    MaximumLatitude = 18.2378398414901497
    MaximumLongitude = 77.5783379303468905
    ProjectionName = Equirectangular
    CenterLongitude = 180.0
    CenterLatitude = 0.0
    CenterLatitudeRadius = 3396190.0
    UpperLeftCornerX = -6108935.84577543195
    UpperLeftCornerY = 1081042.44008283201
    PixelResolution = 20.2039460641760016
    Scale = 2933.81784602995458
  End_Group
End_Object
Object = Label
  Bytes = 1282
End_Object
End
