Object = IsisCube
  Object = Core
    StartByte = 63808
    ^Core = F02_036761_1828_F04_037262_1841_20m_DTM_destripe.tif
    Format = BandSequential
    Group = Dimensions
      Samples = 2276
      Lines = 7892
      Bands = 1
    End_Group
    Group = Pixels
      Type = Real
      ByteOrder = Lsb
      Base = 0.0
      Multiplier = 1.0
    End_Group
  End_Object
  Group = Mapping
    TargetName = Mars
    EquatorialRadius = 3396190.0
    PolarRadius = 3396190.0
    LatitudeType = Planetocentric
    LongitudeDirection = PositiveEast
    LongitudeDomain = 180
    MinimumLatitude = 2.69732408554263081
    MinimumLongitude = 135.282661350603945
    MaximumLatitude = 5.39157565915376669
    MaximumLongitude = 136.059665479030087
    ProjectionName = Equirectangular
    CenterLongitude = 180.0
    CenterLatitude = 0.0
    CenterLatitudeRadius = 3396190.0
    UpperLeftCornerX = -2650606.72249019984
    UpperLeftCornerY = 319584.016370359983
    PixelResolution = 20.2358017077410004
    Scale = 2929.19936553001935
  End_Group
End_Object
Object = Label
  Bytes = 1285
End_Object
End
