Object = IsisCube
  Object = Core
    StartByte = 81720
    ^Core = F02_036695_1843_D02_028045_1831_20m_DTM_destripe.tif
    Format = BandSequential
    Group = Dimensions
      Samples = 2508
      Lines = 10131
      Bands = 1
    End_Group
    Group = Pixels
      Type = Real
      ByteOrder = Lsb
      Base = 0.0
      Multiplier = 1.0
    End_Group
  End_Object
  Group = Mapping
    TargetName = Mars
    EquatorialRadius = 3396190.0
    PolarRadius = 3396190.0
    LatitudeType = Planetocentric
    LongitudeDirection = PositiveEast
    LongitudeDomain = 180
    MinimumLatitude = 2.32623292248053914
    MinimumLongitude = 136.088342253159738
    MaximumLatitude = 5.78485718688461859
    MaximumLongitude = 136.94454891144872
    ProjectionName = Equirectangular
    CenterLongitude = 180.0
    CenterLatitude = 0.0
    CenterLatitudeRadius = 3396190.0
    UpperLeftCornerX = -2602850.23069089977
    UpperLeftCornerY = 342895.659968109976
    PixelResolution = 20.2358017095370002
    Scale = 2929.19936527004211
  End_Group
End_Object
Object = Label
  Bytes = 1285
End_Object
End
