PDS_VERSION_ID = PDS3
DD_VERSION_ID = PDSCAT1R100
LABEL_REVISION_NOTE = "2017-05-01, David P. Mayer (USGS), initial PDS3 label pointing to GeoTIFF;"
RECORD_TYPE = FIXED_LENGTH
RECORD_BYTES = 10836
TARGET_NAME = MARS
^IMAGE = ("D19_034783_1864_D20_034928_1864_20m_slope_20m.tif", 124072 )
OBJECT = IMAGE
  LINES = 15425
  LINE_SAMPLES = 2709
  SAMPLE_BITS = 32
  SAMPLE_TYPE = IEEE_REAL
  BANDS = 1
  BAND_STORAGE_TYPE = BAND_SEQUENTIAL
END_OBJECT = IMAGE
OBJECT = IMAGE_MAP_PROJECTION
  MAP_PROJECTION_TYPE = EQUIRECTANGULAR
  A_AXIS_RADIUS = 3396.19
  B_AXIS_RADIUS = 3396.19
  C_AXIS_RADIUS = 3396.19
  FIRST_STANDARD_PARALLEL = N/A
  SECOND_STANDARD_PARALLEL = N/A
  POSITIVE_LONGITUDE_DIRECTION = EAST
  CENTER_LATITUDE = 0.0
  CENTER_LONGITUDE = 180.0
  REFERENCE_LATITUDE = N/A
  REFERENCE_LONGITUDE = N/A
  LINE_FIRST_PIXEL = 1
  LINE_LAST_PIXEL = 15425
  SAMPLE_FIRST_PIXEL = 1
  SAMPLE_LAST_PIXEL = 2709
  MAP_PROJECTION_ROTATION = 0.0
  MAP_RESOLUTION = 2929.1993655300193
  MAP_SCALE = 20.235801707741
  MAXIMUM_LATITUDE = 9.003996214927366
  MINIMUM_LATITUDE = 3.7380521547459447
  EASTERNMOST_LONGITUDE = 136.44082765362936
  WESTERNMOST_LONGITUDE = 135.5160015622821
  LINE_PROJECTION_OFFSET = 26373.999999999945
  SAMPLE_PROJECTION_OFFSET = 130302.0000000016
  COORDINATE_SYSTEM_TYPE = "BODY-FIXED ROTATING"
  COORDINATE_SYSTEM_NAME = PLANETOCENTRIC
  PROJECTION_LATITUDE_TYPE = PLANETOCENTRIC
END_OBJECT = IMAGE_MAP_PROJECTION
END
