Object = IsisCube
  Object = Core
    StartByte = 91982
    ^Core = D18_034427_1842_XN_04N223W_6m_ORTHO.tif
    Format = BandSequential
    Group = Dimensions
      Samples = 5261
      Lines = 11417
      Bands = 1
    End_Group
    Group = Pixels
      Type = UnsignedByte
      ByteOrder = Lsb
      Base = 0.0
      Multiplier = 1.0
    End_Group
  End_Object
  Group = Mapping
    TargetName = Mars
    EquatorialRadius = 3396190.0
    PolarRadius = 3396190.0
    LatitudeType = Planetocentric
    LongitudeDirection = PositiveEast
    LongitudeDomain = 180
    MinimumLatitude = 3.71722735164786533
    MinimumLongitude = 136.370945076791429
    MaximumLatitude = 4.88652297566670146
    MaximumLongitude = 136.909761252491109
    ProjectionName = Equirectangular
    CenterLongitude = 180.0
    CenterLatitude = 0.0
    CenterLatitudeRadius = 3396190.0
    UpperLeftCornerX = -2586099.03380089998
    UpperLeftCornerY = 289647.171323330025
    PixelResolution = 6.07074051230990008
    Scale = 9763.9978851200085
  End_Group
End_Object
Object = Label
  Bytes = 1280
End_Object
End
