PDS_VERSION_ID = PDS3
DD_VERSION_ID = PDSCAT1R100
LABEL_REVISION_NOTE = "2017-05-01, David P. Mayer (USGS), initial PDS3 label pointing to GeoTIFF;"
RECORD_TYPE = FIXED_LENGTH
RECORD_BYTES = 6316
TARGET_NAME = MARS
^IMAGE = ("D18_034427_1842_D17_033939_1843_20m_slope_20m.tif", 28072 )
OBJECT = IMAGE
  LINES = 3425
  LINE_SAMPLES = 1579
  SAMPLE_BITS = 32
  SAMPLE_TYPE = IEEE_REAL
  BANDS = 1
  BAND_STORAGE_TYPE = BAND_SEQUENTIAL
END_OBJECT = IMAGE
OBJECT = IMAGE_MAP_PROJECTION
  MAP_PROJECTION_TYPE = EQUIRECTANGULAR
  A_AXIS_RADIUS = 3396.19
  B_AXIS_RADIUS = 3396.19
  C_AXIS_RADIUS = 3396.19
  FIRST_STANDARD_PARALLEL = N/A
  SECOND_STANDARD_PARALLEL = N/A
  POSITIVE_LONGITUDE_DIRECTION = EAST
  CENTER_LATITUDE = 0.0
  CENTER_LONGITUDE = 180.0
  REFERENCE_LATITUDE = N/A
  REFERENCE_LONGITUDE = N/A
  LINE_FIRST_PIXEL = 1
  LINE_LAST_PIXEL = 3425
  SAMPLE_FIRST_PIXEL = 1
  SAMPLE_LAST_PIXEL = 1579
  MAP_PROJECTION_ROTATION = 0.0
  MAP_RESOLUTION = 2929.1993655300193
  MAP_SCALE = 20.235801707741
  MAXIMUM_LATITUDE = 4.886830226869908
  MINIMUM_LATITUDE = 3.7175687418701444
  EASTERNMOST_LONGITUDE = 136.90955641827344
  WESTERNMOST_LONGITUDE = 136.37050126942245
  LINE_PROJECTION_OFFSET = 14314.000000000262
  SAMPLE_PROJECTION_OFFSET = 127799.00000000041
  COORDINATE_SYSTEM_TYPE = "BODY-FIXED ROTATING"
  COORDINATE_SYSTEM_NAME = PLANETOCENTRIC
  PROJECTION_LATITUDE_TYPE = PLANETOCENTRIC
END_OBJECT = IMAGE_MAP_PROJECTION
END
