PDS_VERSION_ID = PDS3
DD_VERSION_ID = PDSCAT1R100
LABEL_REVISION_NOTE = "2017-05-01, David P. Mayer (USGS), initial PDS3 label pointing to GeoTIFF;"
RECORD_TYPE = FIXED_LENGTH
RECORD_BYTES = 6282
TARGET_NAME = MARS
^IMAGE = ("D18_034150_1838_XN_03N222W_6m_ORTHO.tif", 162086 )
OBJECT = IMAGE
  LINES = 20180
  LINE_SAMPLES = 6282
  SAMPLE_BITS = 8
  SAMPLE_TYPE = LSB_UNSIGNED_INTEGER
  BANDS = 1
  BAND_STORAGE_TYPE = BAND_SEQUENTIAL
END_OBJECT = IMAGE
OBJECT = IMAGE_MAP_PROJECTION
  MAP_PROJECTION_TYPE = EQUIRECTANGULAR
  A_AXIS_RADIUS = 3396.19
  B_AXIS_RADIUS = 3396.19
  C_AXIS_RADIUS = 3396.19
  FIRST_STANDARD_PARALLEL = N/A
  SECOND_STANDARD_PARALLEL = N/A
  POSITIVE_LONGITUDE_DIRECTION = EAST
  CENTER_LATITUDE = 0.0
  CENTER_LONGITUDE = 180.0
  REFERENCE_LATITUDE = N/A
  REFERENCE_LONGITUDE = N/A
  LINE_FIRST_PIXEL = 1
  LINE_LAST_PIXEL = 20180
  SAMPLE_FIRST_PIXEL = 1
  SAMPLE_LAST_PIXEL = 6282
  MAP_PROJECTION_ROTATION = 0.0
  MAP_RESOLUTION = 9763.99788425004
  MAP_SCALE = 6.0707405128508
  MAXIMUM_LATITUDE = 4.830500841881634
  MINIMUM_LATITUDE = 2.7637244825225613
  EASTERNMOST_LONGITUDE = 137.69622188609006
  WESTERNMOST_LONGITUDE = 137.05283788760178
  LINE_PROJECTION_OFFSET = 47164.500000000335
  SAMPLE_PROJECTION_OFFSET = 419335.4999999995
  COORDINATE_SYSTEM_TYPE = "BODY-FIXED ROTATING"
  COORDINATE_SYSTEM_NAME = PLANETOCENTRIC
  PROJECTION_LATITUDE_TYPE = PLANETOCENTRIC
END_OBJECT = IMAGE_MAP_PROJECTION
END
