Object = IsisCube
  Object = Core
    StartByte = 49104
    ^Core = D18_034150_1838_D17_033728_1838_20m_slope_20m.tif
    Format = BandSequential
    Group = Dimensions
      Samples = 1885
      Lines = 6054
      Bands = 1
    End_Group
    Group = Pixels
      Type = Real
      ByteOrder = Lsb
      Base = 0.0
      Multiplier = 1.0
    End_Group
  End_Object
  Group = Mapping
    TargetName = Mars
    EquatorialRadius = 3396190.0
    PolarRadius = 3396190.0
    LatitudeType = Planetocentric
    LongitudeDirection = PositiveEast
    LongitudeDomain = 180
    MinimumLatitude = 2.76406587274186855
    MinimumLongitude = 137.052598914377995
    MaximumLatitude = 4.83084223210444907
    MaximumLongitude = 137.696119468953242
    ProjectionName = Equirectangular
    CenterLongitude = 180.0
    CenterLatitude = 0.0
    CenterLatitudeRadius = 3396190.0
    UpperLeftCornerX = -2545694.20876235468
    UpperLeftCornerY = 286346.712090804765
    PixelResolution = 20.2358017095370002
    Scale = 2929.19936527004211
  End_Group
End_Object
Object = Label
  Bytes = 1282
End_Object
End
