PDS_VERSION_ID = PDS3
DD_VERSION_ID = PDSCAT1R100
LABEL_REVISION_NOTE = "2017-05-01, David P. Mayer (USGS), initial PDS3 label pointing to GeoTIFF;"
RECORD_TYPE = FIXED_LENGTH
RECORD_BYTES = 5368
TARGET_NAME = MARS
^IMAGE = ("D18_034071_1842_D18_034216_1845_20m_slope_20m.tif", 30128 )
OBJECT = IMAGE
  LINES = 3682
  LINE_SAMPLES = 1342
  SAMPLE_BITS = 32
  SAMPLE_TYPE = IEEE_REAL
  BANDS = 1
  BAND_STORAGE_TYPE = BAND_SEQUENTIAL
END_OBJECT = IMAGE
OBJECT = IMAGE_MAP_PROJECTION
  MAP_PROJECTION_TYPE = EQUIRECTANGULAR
  A_AXIS_RADIUS = 3396.19
  B_AXIS_RADIUS = 3396.19
  C_AXIS_RADIUS = 3396.19
  FIRST_STANDARD_PARALLEL = N/A
  SECOND_STANDARD_PARALLEL = N/A
  POSITIVE_LONGITUDE_DIRECTION = EAST
  CENTER_LATITUDE = 0.0
  CENTER_LONGITUDE = 180.0
  REFERENCE_LATITUDE = N/A
  REFERENCE_LONGITUDE = N/A
  LINE_FIRST_PIXEL = 1
  LINE_LAST_PIXEL = 3682
  SAMPLE_FIRST_PIXEL = 1
  SAMPLE_LAST_PIXEL = 1342
  MAP_PROJECTION_ROTATION = 0.0
  MAP_RESOLUTION = 2929.199365270042
  MAP_SCALE = 20.235801709537
  MAXIMUM_LATITUDE = 4.875564350220829
  MINIMUM_LATITUDE = 3.6185655799576946
  EASTERNMOST_LONGITUDE = 135.04420028171702
  WESTERNMOST_LONGITUDE = 134.5860546136852
  LINE_PROJECTION_OFFSET = 14281.000000000106
  SAMPLE_PROJECTION_OFFSET = 133026.00000000154
  COORDINATE_SYSTEM_TYPE = "BODY-FIXED ROTATING"
  COORDINATE_SYSTEM_NAME = PLANETOCENTRIC
  PROJECTION_LATITUDE_TYPE = PLANETOCENTRIC
END_OBJECT = IMAGE_MAP_PROJECTION
END
