Object = IsisCube
  Object = Core
    StartByte = 30128
    ^Core = D18_034071_1842_D18_034216_1845_20m_slope_20m.tif
    Format = BandSequential
    Group = Dimensions
      Samples = 1342
      Lines = 3682
      Bands = 1
    End_Group
    Group = Pixels
      Type = Real
      ByteOrder = Lsb
      Base = 0.0
      Multiplier = 1.0
    End_Group
  End_Object
  Group = Mapping
    TargetName = Mars
    EquatorialRadius = 3396190.0
    PolarRadius = 3396190.0
    LatitudeType = Planetocentric
    LongitudeDirection = PositiveEast
    LongitudeDomain = 180
    MinimumLatitude = 3.61856557995769457
    MinimumLongitude = 134.586054613685207
    MaximumLatitude = 4.87556435022082901
    MaximumLongitude = 135.044200281717025
    ProjectionName = Equirectangular
    CenterLongitude = 180.0
    CenterLatitude = 0.0
    CenterLatitudeRadius = 3396190.0
    UpperLeftCornerX = -2691897.8761137547
    UpperLeftCornerY = 288997.602114754787
    PixelResolution = 20.2358017095370002
    Scale = 2929.19936527004211
  End_Group
End_Object
Object = Label
  Bytes = 1281
End_Object
End
