Object = IsisCube
  Object = Core
    StartByte = 30128
    Format = BandSequential
    Group = Dimensions
      Samples = 1342
      Lines = 3682
      Bands = 1
    End_Group
    Group = Pixels
      Type = Real
      ByteOrder = Lsb
      Base = 0.0
      Multiplier = 1.0
    End_Group
    ^Core = D18_034071_1842_D18_034216_1845_20m_DTM.tif
  End_Object
  Group = Mapping
    ProjectionName = Equirectangular
    CenterLongitude = 180
    TargetName = Mars
    EquatorialRadius = 3396190
    PolarRadius = 3376200
    LatitudeType = Planetocentric
    LongitudeDirection = PositiveEast
    LongitudeDomain = 360
    MinimumLatitude = 3.61838088197400021
    MaximumLatitude = 4.87529914061170011
    MinimumLongitude = 134.586527439999998
    MaximumLongitude = 135.044485930000008
    UpperLeftCornerX = -2691887.75821289979
    UpperLeftCornerY = 288987.484213899996
    PixelResolution = 20.2358017095370002
    Scale = 2929.19936526999982
    CenterLatitude = 0
  End_Group
  Group = AlphaCube
    AlphaSamples = 1354
    AlphaLines = 3725
    AlphaStartingSample = 0.5
    AlphaStartingLine = 0.5
    AlphaEndingSample = 1354.5
    AlphaEndingLine = 3725.5
    BetaSamples = 1338
    BetaLines = 3725
  End_Group
End_Object
Object = Label
  Bytes = 1498
End_Object
End
