PDS_VERSION_ID = PDS3
DD_VERSION_ID = PDSCAT1R100
LABEL_REVISION_NOTE = "2017-05-01, David P. Mayer (USGS), initial PDS3 label pointing to GeoTIFF;"
RECORD_TYPE = FIXED_LENGTH
RECORD_BYTES = 6936
TARGET_NAME = MARS
^IMAGE = ("D06_029601_1846_F05_037684_1857_20m_slope_20m.tif", 39480 )
OBJECT = IMAGE
  LINES = 4851
  LINE_SAMPLES = 1734
  SAMPLE_BITS = 32
  SAMPLE_TYPE = IEEE_REAL
  BANDS = 1
  BAND_STORAGE_TYPE = BAND_SEQUENTIAL
END_OBJECT = IMAGE
OBJECT = IMAGE_MAP_PROJECTION
  MAP_PROJECTION_TYPE = EQUIRECTANGULAR
  A_AXIS_RADIUS = 3396.19
  B_AXIS_RADIUS = 3396.19
  C_AXIS_RADIUS = 3396.19
  FIRST_STANDARD_PARALLEL = N/A
  SECOND_STANDARD_PARALLEL = N/A
  POSITIVE_LONGITUDE_DIRECTION = EAST
  CENTER_LATITUDE = 0.0
  CENTER_LONGITUDE = 180.0
  REFERENCE_LATITUDE = N/A
  REFERENCE_LONGITUDE = N/A
  LINE_FIRST_PIXEL = 1
  LINE_LAST_PIXEL = 4851
  SAMPLE_FIRST_PIXEL = 1
  SAMPLE_LAST_PIXEL = 1734
  MAP_PROJECTION_ROTATION = 0.0
  MAP_RESOLUTION = 2929.1993655300193
  MAP_SCALE = 20.235801707741
  MAXIMUM_LATITUDE = 5.517036563018689
  MINIMUM_LATITUDE = 3.8609526320015046
  EASTERNMOST_LONGITUDE = 135.50678402648848
  WESTERNMOST_LONGITUDE = 134.9148133943747
  LINE_PROJECTION_OFFSET = 16160.000000000267
  SAMPLE_PROJECTION_OFFSET = 132063.00000000003
  COORDINATE_SYSTEM_TYPE = "BODY-FIXED ROTATING"
  COORDINATE_SYSTEM_NAME = PLANETOCENTRIC
  PROJECTION_LATITUDE_TYPE = PLANETOCENTRIC
END_OBJECT = IMAGE_MAP_PROJECTION
END
