PDS_VERSION_ID = PDS3
DD_VERSION_ID = PDSCAT1R100
LABEL_REVISION_NOTE = "2017-05-01, David P. Mayer (USGS), initial PDS3 label pointing to GeoTIFF;"
RECORD_TYPE = FIXED_LENGTH
PRODUCER_FULL_NAME = "PHILIP CHRISTENSEN"
PRODUCER_INSTITUTION_NAME = "ARIZONA STATE UNIVERSITY"
PRODUCT_ID = GLOBAL_ALBEDO_8PPD
INSTRUMENT_ID = TES
RECORD_BYTES = 11520
TARGET_NAME = MARS
^IMAGE = ("Mars_MGS_TES_Albedo_mosaic_global_7410m.tif", 12182 )
OBJECT = IMAGE
  LINES = 1440
  LINE_SAMPLES = 2880
  SAMPLE_BITS = 32
  SAMPLE_TYPE = IEEE_REAL
  BANDS = 1
  BAND_STORAGE_TYPE = BAND_SEQUENTIAL
END_OBJECT = IMAGE
OBJECT = IMAGE_MAP_PROJECTION
  MAP_PROJECTION_TYPE = SIMPLE_CYLINDRICAL
  A_AXIS_RADIUS = 3396.0
  B_AXIS_RADIUS = 3396.0
  C_AXIS_RADIUS = 3396.0
  FIRST_STANDARD_PARALLEL = N/A
  SECOND_STANDARD_PARALLEL = N/A
  POSITIVE_LONGITUDE_DIRECTION = EAST
  CENTER_LATITUDE = N/A
  CENTER_LONGITUDE = 0.0
  REFERENCE_LATITUDE = N/A
  REFERENCE_LONGITUDE = N/A
  LINE_FIRST_PIXEL = 1
  LINE_LAST_PIXEL = 1440
  SAMPLE_FIRST_PIXEL = 1
  SAMPLE_LAST_PIXEL = 2880
  MAP_PROJECTION_ROTATION = 0.0
  MAP_RESOLUTION = 8.0
  MAP_SCALE = 7410.0
  MAXIMUM_LATITUDE = 90.0
  MINIMUM_LATITUDE = -90.0
  EASTERNMOST_LONGITUDE = 180.0
  WESTERNMOST_LONGITUDE = -180.0
  LINE_PROJECTION_OFFSET = 719.5
  SAMPLE_PROJECTION_OFFSET = 1439.5
  COORDINATE_SYSTEM_TYPE = "BODY-FIXED ROTATING"
  COORDINATE_SYSTEM_NAME = PLANETOCENTRIC
  PROJECTION_LATITUDE_TYPE = PLANETOCENTRIC
END_OBJECT = IMAGE_MAP_PROJECTION
END
