Object = IsisCube
  Object = Core
    StartByte = 553608
    Format = BandSequential
    Group = Dimensions
      Samples = 46080
      Lines = 23040
      Bands = 3
    End_Group
    Group = Pixels
      Type = UnsignedByte
      ByteOrder = Lsb
      Base = 0.0
      Multiplier = 1.0
    End_Group
    ^Core = Mars_MGS_MOLA_ClrShade_merge_global_463m.tif
  End_Object
  Group = Archive
    DataSetId = mola128_mola64_merge_90Nto90S_clon0
    ProducerInstitutionName = "Astrogeology Science Center"
    ProducerId = Astrogeology
    ProducerFullName = "USGS and GSFC"
    ProductId = MOLA
    ProductVersionId = 2003
    InstrumentHostName = "Mars Global Surveyor"
    InstrumentName = "Mars Orbitor Laser Altimeter"
    InstrumentId = MOLA
    TargetName = Mars
    MissionPhaseName = Derived
  End_Group
  Group = Mapping
    ProjectionName = SimpleCylindrical
    CenterLongitude = 0.0
    TargetName = Mars
    EquatorialRadius = 3396190.0
    PolarRadius = 3376200.0
    LatitudeType = Planetocentric
    LongitudeDirection = PositiveEast
    LongitudeDomain = 360
    MinimumLatitude = -90.0
    MaximumLatitude = 90.0
    MinimumLongitude = -180.0
    MaximumLongitude = 180.0
    UpperLeftCornerX = -10669445.5541949999
    UpperLeftCornerY = 5334722.77709800005
    PixelResolution = 463.08359999999999
    Scale = 128.0
  End_Group
End_Object
Object = Label
  Bytes = 1829
End_Object
Object = History
  Name = IsisCube
  StartByte = 1
  Bytes = 918
  ^History = Mars_MGS_MOLA_ClrShade_merge_global_463m.History.IsisCube
End_Object
End
