PDS_VERSION_ID = PDS3
DD_VERSION_ID = PDSCAT1R100
LABEL_REVISION_NOTE = "2017-05-01, David P. Mayer (USGS), initial PDS3 label pointing to GeoTIFF;"
RECORD_TYPE = FIXED_LENGTH
RECORD_BYTES = 807
TARGET_NAME = IO
^IMAGE = ("TvashtarPaterae_9426r_Ortho_319m.tif", 2086 )
OBJECT = IMAGE
  LINES = 1808
  LINE_SAMPLES = 807
  SAMPLE_BITS = 8
  SAMPLE_TYPE = LSB_UNSIGNED_INTEGER
  BANDS = 1
  BAND_STORAGE_TYPE = BAND_SEQUENTIAL
END_OBJECT = IMAGE
OBJECT = IMAGE_MAP_PROJECTION
  MAP_PROJECTION_TYPE = EQUIRECTANGULAR
  A_AXIS_RADIUS = 1821.46
  B_AXIS_RADIUS = 1821.46
  C_AXIS_RADIUS = 1821.46
  FIRST_STANDARD_PARALLEL = N/A
  SECOND_STANDARD_PARALLEL = N/A
  POSITIVE_LONGITUDE_DIRECTION = EAST
  CENTER_LATITUDE = 63.7712
  CENTER_LONGITUDE = 0.0
  REFERENCE_LATITUDE = N/A
  REFERENCE_LONGITUDE = N/A
  LINE_FIRST_PIXEL = 1
  LINE_LAST_PIXEL = 1808
  SAMPLE_FIRST_PIXEL = 1
  SAMPLE_LAST_PIXEL = 807
  MAP_PROJECTION_ROTATION = 0.0
  MAP_RESOLUTION = 99.65665890999892
  MAP_SCALE = 319.0000000109
  MAXIMUM_LATITUDE = 73.76266191000099
  MINIMUM_LATITUDE = 55.62037197398352
  EASTERNMOST_LONGITUDE = -110.27154304434721
  WESTERNMOST_LONGITUDE = -128.59415497000106
  LINE_PROJECTION_OFFSET = 7350.440438258541
  SAMPLE_PROJECTION_OFFSET = 5663.293103399889
  COORDINATE_SYSTEM_TYPE = "BODY-FIXED ROTATING"
  COORDINATE_SYSTEM_NAME = PLANETOCENTRIC
  PROJECTION_LATITUDE_TYPE = PLANETOCENTRIC
END_OBJECT = IMAGE_MAP_PROJECTION
END
