Object = IsisCube
  Object = Core
    StartByte = 23688
    Format = BandSequential
    Group = Dimensions
      Samples = 5760
      Lines = 2880
      Bands = 1
    End_Group
    Group = Pixels
      Type = UnsignedByte
      ByteOrder = Lsb
      Base = 0.0
      Multiplier = 1.0
    End_Group
    ^Core = Iapetus_Cassini_Voyager_mosaic_global_783m.tif
  End_Object
  Group = Instrument
    TargetName = Iapetus
  End_Group
  Group = BandBin
    Center = 1.0
    OriginalBand = 1
  End_Group
  Group = Mapping
    ProjectionName = SimpleCylindrical
    CenterLongitude = 0.0
    TargetName = Iapetus
    EquatorialRadius = 736000.0
    PolarRadius = 736000.0
    LatitudeType = Planetocentric
    LongitudeDirection = PositiveWest
    LongitudeDomain = 180
    MinimumLatitude = -90.0
    MaximumLatitude = 90.0
    MinimumLongitude = -180.0
    MaximumLongitude = 180.0
    UpperLeftCornerX = -2312212.19304199982
    UpperLeftCornerY = 1156106.09652099991
    PixelResolution = 802.851455999999985
    Scale = 16.0
  End_Group
End_Object
Object = Label
  Bytes = 1643
End_Object
Object = History
  Name = IsisCube
  StartByte = 1
  Bytes = 1859
  ^History = Iapetus_Cassini_Voyager_mosaic_global_783m.History.IsisCube
End_Object
Object = OriginalLabel
  Name = IsisCube
  StartByte = 1
  Bytes = 2261
  ^OriginalLabel = Iapetus_Cassini_Voyager_mosaic_global_783m.OriginalLabel.Is- isCube
End_Object
End
