PDS_VERSION_ID = PDS3
DD_VERSION_ID = PDSCAT1R100
LABEL_REVISION_NOTE = "2017-05-01, David P. Mayer (USGS), initial PDS3 label pointing to GeoTIFF;"
RECORD_TYPE = FIXED_LENGTH
RECORD_BYTES = 16539
TARGET_NAME = GANYMEDE
^IMAGE = ("Ganymede_Voyager_GalileoSSI_global_mosaic_1km.tif", 67008 )
OBJECT = IMAGE
  LINES = 8270
  LINE_SAMPLES = 16539
  SAMPLE_BITS = 8
  SAMPLE_TYPE = LSB_UNSIGNED_INTEGER
  BANDS = 1
  BAND_STORAGE_TYPE = BAND_SEQUENTIAL
END_OBJECT = IMAGE
OBJECT = IMAGE_MAP_PROJECTION
  MAP_PROJECTION_TYPE = SIMPLE_CYLINDRICAL
  A_AXIS_RADIUS = 2632.3449707
  B_AXIS_RADIUS = 2632.3449707
  C_AXIS_RADIUS = 2632.3449707
  FIRST_STANDARD_PARALLEL = N/A
  SECOND_STANDARD_PARALLEL = N/A
  POSITIVE_LONGITUDE_DIRECTION = WEST
  CENTER_LATITUDE = N/A
  CENTER_LONGITUDE = 180.0
  REFERENCE_LATITUDE = N/A
  REFERENCE_LONGITUDE = N/A
  LINE_FIRST_PIXEL = 1
  LINE_LAST_PIXEL = 8270
  SAMPLE_FIRST_PIXEL = 1
  SAMPLE_LAST_PIXEL = 16539
  MAP_PROJECTION_ROTATION = 0.0
  MAP_RESOLUTION = 45.94
  MAP_SCALE = 1000.067192
  MAXIMUM_LATITUDE = 90.0
  MINIMUM_LATITUDE = -90.0
  EASTERNMOST_LONGITUDE = 0.0
  WESTERNMOST_LONGITUDE = 360.0
  LINE_PROJECTION_OFFSET = 4134.4999987890815
  SAMPLE_PROJECTION_OFFSET = -8270.499997578163
  COORDINATE_SYSTEM_TYPE = "BODY-FIXED ROTATING"
  COORDINATE_SYSTEM_NAME = PLANETOCENTRIC
  PROJECTION_LATITUDE_TYPE = PLANETOCENTRIC
END_OBJECT = IMAGE_MAP_PROJECTION
END
