PDS_VERSION_ID = PDS3
DD_VERSION_ID = PDSCAT1R100
LABEL_REVISION_NOTE = "2017-05-01, David P. Mayer (USGS), initial PDS3 label pointing to GeoTIFF;"
RECORD_TYPE = FIXED_LENGTH
DATA_SET_ID = Ganymede_Voyager_GalileoSSI_global_ClrMosaic180_1435m
PRODUCER_ID = ASTROGEOLOGY
PRODUCER_FULL_NAME = USGS
PRODUCER_INSTITUTION_NAME = "ASTROGEOLOGY SCIENCE CENTER"
PRODUCT_ID = n/a
INSTRUMENT_HOST_NAME = N/A
INSTRUMENT_NAME = N/A
INSTRUMENT_ID = N/A
RECORD_BYTES = 11520
TARGET_NAME = GANYMEDE
^IMAGE = ("Ganymede_Voyager_GalileoSSI_Global_ClrMosaic_1435m.tif", 138942 )
OBJECT = IMAGE
  LINES = 5760
  LINE_SAMPLES = 11520
  SAMPLE_BITS = 8
  SAMPLE_TYPE = LSB_UNSIGNED_INTEGER
  BANDS = 3
  BAND_STORAGE_TYPE = BAND_SEQUENTIAL
END_OBJECT = IMAGE
OBJECT = IMAGE_MAP_PROJECTION
  MAP_PROJECTION_TYPE = EQUIRECTANGULAR
  A_AXIS_RADIUS = 2632.345
  B_AXIS_RADIUS = 2632.345
  C_AXIS_RADIUS = 2632.345
  FIRST_STANDARD_PARALLEL = N/A
  SECOND_STANDARD_PARALLEL = N/A
  POSITIVE_LONGITUDE_DIRECTION = EAST
  CENTER_LATITUDE = 0.0
  CENTER_LONGITUDE = 180.0
  REFERENCE_LATITUDE = N/A
  REFERENCE_LONGITUDE = N/A
  LINE_FIRST_PIXEL = 1
  LINE_LAST_PIXEL = 5760
  SAMPLE_FIRST_PIXEL = 1
  SAMPLE_LAST_PIXEL = 11520
  MAP_PROJECTION_ROTATION = 0.0
  MAP_RESOLUTION = 32.0
  MAP_SCALE = 1435.721462
  MAXIMUM_LATITUDE = 90.0
  MINIMUM_LATITUDE = -90.0
  EASTERNMOST_LONGITUDE = 360.0
  WESTERNMOST_LONGITUDE = 0.0
  LINE_PROJECTION_OFFSET = 2879.5000001901485
  SAMPLE_PROJECTION_OFFSET = 5759.5000003796
  COORDINATE_SYSTEM_TYPE = "BODY-FIXED ROTATING"
  COORDINATE_SYSTEM_NAME = PLANETOCENTRIC
  PROJECTION_LATITUDE_TYPE = PLANETOCENTRIC
END_OBJECT = IMAGE_MAP_PROJECTION
END
