Object = IsisCube
  Object = Core
    StartByte = 79368
    Format = BandSequential
    Group = Dimensions
      Samples = 19631
      Lines = 9816
      Bands = 1
    End_Group
    Group = Pixels
      Type = UnsignedByte
      ByteOrder = Lsb
      Base = -0.0029527570999999999
      Multiplier = 0.0059055141000000002
    End_Group
    ^Core = Europa_Voyager_GalileoSSI_global_mosaic_500m.tif
  End_Object
  Group = Instrument
    TargetName = Europa
  End_Group
  Group = BandBin
    FilterName = N/A
    Center = 1
    Width = 1
    OriginalBand = 1
  End_Group
  Group = Mapping
    ProjectionName = SimpleCylindrical
    CenterLongitude = 180
    TargetName = Europa
    EquatorialRadius = 1562089.96579999989
    PolarRadius = 1562089.96579999989
    LatitudeType = Planetocentric
    LongitudeDirection = PositiveWest
    LongitudeDomain = 360
    MinimumLatitude = -90
    MaximumLatitude = 90
    MinimumLongitude = 0
    MaximumLongitude = 360
    UpperLeftCornerX = -4907750.34554359969
    UpperLeftCornerY = 2453875.17277179984
    PixelResolution = 499.974566579420014
    Scale = 54.5300000000000011
  End_Group
End_Object
Object = Label
  Bytes = 1753
End_Object
Object = History
  Name = IsisCube
  StartByte = 1
  Bytes = 1007
  ^History = Europa_Voyager_GalileoSSI_global_mosaic_500m.History.IsisCube
End_Object
Object = OriginalLabel
  Name = IsisCube
  StartByte = 1
  Bytes = 3007
  ^OriginalLabel = Europa_Voyager_GalileoSSI_global_mosaic_500m.OriginalLabel.- IsisCube
End_Object
End
