PDS_VERSION_ID = PDS3
DD_VERSION_ID = PDSCAT1R100
LABEL_REVISION_NOTE = "2017-05-01, David P. Mayer (USGS), initial PDS3 label pointing to GeoTIFF;"
RECORD_TYPE = FIXED_LENGTH
RECORD_BYTES = 14401
TARGET_NAME = ENCELADUS
^IMAGE = ("Enceladus_Cassini_mosaic_global_110m.tif", 58264 )
OBJECT = IMAGE
  LINES = 7201
  LINE_SAMPLES = 14401
  SAMPLE_BITS = 8
  SAMPLE_TYPE = LSB_UNSIGNED_INTEGER
  BANDS = 1
  BAND_STORAGE_TYPE = BAND_SEQUENTIAL
END_OBJECT = IMAGE
OBJECT = IMAGE_MAP_PROJECTION
  MAP_PROJECTION_TYPE = SIMPLE_CYLINDRICAL
  A_AXIS_RADIUS = 252.0
  B_AXIS_RADIUS = 252.0
  C_AXIS_RADIUS = 252.0
  FIRST_STANDARD_PARALLEL = N/A
  SECOND_STANDARD_PARALLEL = N/A
  POSITIVE_LONGITUDE_DIRECTION = WEST
  CENTER_LATITUDE = N/A
  CENTER_LONGITUDE = 180.0
  REFERENCE_LATITUDE = N/A
  REFERENCE_LONGITUDE = N/A
  LINE_FIRST_PIXEL = 1
  LINE_LAST_PIXEL = 7201
  SAMPLE_FIRST_PIXEL = 1
  SAMPLE_LAST_PIXEL = 14401
  MAP_PROJECTION_ROTATION = 0.0
  MAP_RESOLUTION = 40.0
  MAP_SCALE = 109.955743
  MAXIMUM_LATITUDE = 90.0
  MINIMUM_LATITUDE = -90.0
  EASTERNMOST_LONGITUDE = -180.0
  WESTERNMOST_LONGITUDE = 180.0
  LINE_PROJECTION_OFFSET = 3599.4999959256334
  SAMPLE_PROJECTION_OFFSET = -0.5
  COORDINATE_SYSTEM_TYPE = "BODY-FIXED ROTATING"
  COORDINATE_SYSTEM_NAME = PLANETOCENTRIC
  PROJECTION_LATITUDE_TYPE = PLANETOCENTRIC
END_OBJECT = IMAGE_MAP_PROJECTION
END
