Object = IsisCube
  Object = Core
    Group = Dimensions
      Samples = 5824
      Lines = 5824
      Bands = 1
    End_Group
    Group = Pixels
      Type = UnsignedByte
      ByteOrder = Lsb
      Base = 0.0
      Multiplier = 1.0
    End_Group
    StartByte = 47253
    ^Core = Enceladus_Cassini_ISS_NPole30N_100m_HPF.tif
    Format = BandSequential
  End_Object
  Group = BandBin
    FilterName = CL1/CL2
    OriginalBand = 1
    Center = 651.065000000000055
    Width = 340.923000000000002
  End_Group
  Group = Mapping
    ProjectionName = PolarStereographic
    CenterLongitude = 0.0
    TargetName = Enceladus
    EquatorialRadius = 252100.0
    PolarRadius = 252100.0
    LatitudeType = Planetocentric
    LongitudeDirection = PositiveEast
    LongitudeDomain = 360
    MinimumLatitude = 30.0
    MaximumLatitude = 90.0
    MinimumLongitude = 0.0
    MaximumLongitude = 360.0
    UpperLeftCornerX = -291200.0
    UpperLeftCornerY = 291200.0
    PixelResolution = 100.0
    Scale = 43.9997504427769996
    CenterLatitude = 90.0
  End_Group
End_Object
Object = Label
  Bytes = 1278
End_Object
End
