Object = IsisCube
  Object = Core
    StartByte = 23641
    Format = BandSequential
    Group = Dimensions
      Samples = 5760
      Lines = 2880
      Bands = 1
    End_Group
    Group = Pixels
      Type = UnsignedByte
      ByteOrder = Lsb
      Base = 0.0
      Multiplier = 1.0
    End_Group
    ^Core = Dione_Voyager_airbrush_sinu_610m.tif
  End_Object
  Group = Instrument
    TargetName = Dione
  End_Group
  Group = BandBin
    Center = 0.0
    OriginalBand = 1
  End_Group
  Group = Mapping
    ProjectionName = Sinusoidal
    CenterLongitude = 0.0
    TargetName = Dione
    EquatorialRadius = 559000.0
    PolarRadius = 559000.0
    LatitudeType = Planetocentric
    LongitudeDirection = PositiveWest
    LongitudeDomain = 180
    MinimumLatitude = -90.0
    MaximumLatitude = 90.0
    MinimumLongitude = -180.0
    MaximumLongitude = 180.0
    UpperLeftCornerX = -1756150.29335699999
    UpperLeftCornerY = 878075.14667799999
    PixelResolution = 609.774406999999997
    Scale = 16.0
  End_Group
End_Object
Object = Label
  Bytes = 1580
End_Object
Object = History
  Name = IsisCube
  StartByte = 1
  Bytes = 1070
  ^History = Dione_Voyager_airbrush_sinu_610m.History.IsisCube
End_Object
Object = OriginalLabel
  Name = IsisCube
  StartByte = 1
  Bytes = 2395
  ^OriginalLabel = Dione_Voyager_airbrush_sinu_610m.OriginalLabel.IsisCube
End_Object
End
