Object = IsisCube
  Object = Core
    StartByte = 51420
    Format = BandSequential
    Group = Dimensions
      Samples = 12693
      Lines = 6347
      Bands = 1
    End_Group
    Group = Pixels
      Type = UnsignedByte
      ByteOrder = Lsb
      Base = 0.0
      Multiplier = 1.0
    End_Group
    ^Core = Charon_NewHorizons_Global_Mosaic_300m_Jul2017_8bit.tif
  End_Object
  Group = Instrument
    SpacecraftName = "NEW HORIZONS"
    InstrumentId = LORRI
    TargetName = Charon
    SpacecraftClockStartCount = 3/0299175564:47500
    ExposureDuration = 0.0599999999999999978
  End_Group
  Group = Archive
    HighSpeedCompressionMode = LOSSLESS
    ObservationCompletionStatus = COMPLETE
    SequenceDescription = NONE
  End_Group
  Group = BandBin
    Name = None
    Center = 600
    Width = 500
  End_Group
  Group = Kernels
    NaifFrameCode = -98301
    LeapSecond = /Users/schenk/icy/nh/science_spice/kernels/lsk- /naif0011.tls
    TargetAttitudeShape = (/Users/schenk/icy/nh/science_spice/kernels/pc- k/nh_targets_v001.tpc, /Users/schenk/icy/nh/science_spice/kernels/pc- k/pck00010.tpc, /Users/schenk/icy/nh/science_spice/kernels/pc- k/pck00010.ggi.tpc)
    TargetPosition = (Table, /Users/schenk/icy/nh/science_spice/kernels/sp- k/NavSE_plu047_od122.bsp, /Users/schenk/icy/nh/science_spice/kernels/sp- k/NavPE_de433_od122.bsp)
    InstrumentPointing = (Table, /Users/schenk/icy/nh/science_spice/kernels/ck- /nh_scispi_2015_pred.bc, /Users/schenk/icy/nh/science_spice/kernels/ck- /nh_scispi_2015_recon.bc, /Users/schenk/icy/nh/science_spice/kernels/ck- /nh_lorri_wcs.bc, /Users/schenk/icy/nh/science_spice/kernels/fk- /nh_v220.tf, /Users/schenk/icy/nh/science_spice/kernels/fk- /nh_soc_misc_v001.tf)
    Instrument = (/Users/schenk/icy/nh/science_spice/kernels/ik- /nh_allinstruments_v002.ti, /Users/schenk/icy/nh/science_spice/kernels/ik- /nh_alice_v200.ti, /Users/schenk/icy/nh/science_spice/kernels/ik- /nh_lorri_v201.ti, /Users/schenk/icy/nh/science_spice/kernels/ik- /nh_ralph_v100.ti, /Users/schenk/icy/nh/science_spice/kernels/ik- /nh_astr_v000.ti, /Users/schenk/icy/nh/science_spice/kernels/ik- /nh_fss_v000.ti)
    SpacecraftClock = /Users/schenk/icy/nh/science_spice/kernels/scl- k/new-horizons_1121.tsc
    InstrumentPosition = (Table, /Users/schenk/icy/nh/science_spice/kernels/sp- k/nh_pred_20141201_20190301_od122.bsp)
    InstrumentAddendum = $newhorizons/kernels/iak/nh_lorriAddendum_v004- .ti
    ShapeModel = Null
    InstrumentPositionQuality = Unknown
    InstrumentPointingQuality = Unknown
    Extra = /Users/schenk/icy/nh/science_spice/kernels/spk- /nh_stars.bsp
    CameraVersion = 2
  End_Group
  Group = Mapping
    ProjectionName = SimpleCylindrical
    CenterLongitude = 0.0
    TargetName = Charon
    EquatorialRadius = 606000.0
    PolarRadius = 606000.0
    LatitudeType = Planetographic
    LongitudeDirection = PositiveEast
    LongitudeDomain = 180
    MinimumLatitude = -90.0
    MaximumLatitude = 90.0
    MinimumLongitude = -180.0
    MaximumLongitude = 180.0
    UpperLeftCornerX = -1903950.0
    UpperLeftCornerY = 952200.0
    PixelResolution = 300.0
    Scale = 35.2556510000000003
  End_Group
End_Object
Object = Label
  Bytes = 4779
End_Object
End
