Object = IsisCube
  Object = Core
    StartByte = 51428
    Format = BandSequential
    Group = Dimensions
      Samples = 12693
      Lines = 6347
      Bands = 1
    End_Group
    Group = Pixels
      Type = SignedWord
      ByteOrder = Lsb
      Base = 0.0
      Multiplier = 1.0
    End_Group
    ^Core = Charon_NewHorizons_Global_DEM_300m_Jul2017_16bit.tif
  End_Object
  Group = Instrument
    SpacecraftName = "NEW HORIZONS"
    InstrumentId = LORRI
    TargetName = Charon
    SpacecraftClockStartCount = 3/0299175564:47500
    ExposureDuration = 0.0599999999999999978
  End_Group
  Group = Archive
    HighSpeedCompressionMode = LOSSLESS
    ObservationCompletionStatus = COMPLETE
    SequenceDescription = NONE
  End_Group
  Group = Mapping
    ProjectionName = SimpleCylindrical
    CenterLongitude = 0.0
    TargetName = Charon
    EquatorialRadius = 606000.0
    PolarRadius = 606000.0
    LatitudeType = Planetographic
    LongitudeDirection = PositiveEast
    LongitudeDomain = 180
    MinimumLatitude = -90.0
    MaximumLatitude = 90.0
    MinimumLongitude = -180.0
    MaximumLongitude = 180.0
    UpperLeftCornerX = -1903950.0
    UpperLeftCornerY = 952200.0
    PixelResolution = 300.0
    Scale = 35.2556510000000003
  End_Group
End_Object
Object = Label
  Bytes = 1538
End_Object
End
