PDS_VERSION_ID = PDS3
DD_VERSION_ID = PDSCAT1R100
LABEL_REVISION_NOTE = "2017-05-01, David P. Mayer (USGS), initial PDS3 label pointing to GeoTIFF;"
RECORD_TYPE = FIXED_LENGTH
DATA_SET_ID = CE_HAMO_G_00N_180E_EQU_DTM
PRODUCER_ID = DLR
PRODUCER_FULL_NAME = "GERMAN AEROSPACE CENTER (DLR), INSTITUTE OF PLANETARY RESEARCH"
PRODUCER_INSTITUTION_NAME = "GERMAN AEROSPACE CENTER (DLR)"
PRODUCT_ID = CE_HAMO_G_00N_180E_EQU_DTM.IMG
INSTRUMENT_HOST_NAME = DAWN
INSTRUMENT_NAME = "FRAMING CAMERA 2"
INSTRUMENT_ID = FC2
RECORD_BYTES = 43200
TARGET_NAME = CERES
^IMAGE = ("Ceres_Dawn_FC_HAMO_DTM_DLR_Global_60ppd_Oct2016.tif", 87218 )
OBJECT = IMAGE
  LINES = 10800
  LINE_SAMPLES = 21600
  SAMPLE_BITS = 16
  SAMPLE_TYPE = LSB_INTEGER
  BANDS = 1
  BAND_STORAGE_TYPE = BAND_SEQUENTIAL
END_OBJECT = IMAGE
OBJECT = IMAGE_MAP_PROJECTION
  MAP_PROJECTION_TYPE = EQUIRECTANGULAR
  A_AXIS_RADIUS = 470.0
  B_AXIS_RADIUS = 470.0
  C_AXIS_RADIUS = 470.0
  FIRST_STANDARD_PARALLEL = N/A
  SECOND_STANDARD_PARALLEL = N/A
  POSITIVE_LONGITUDE_DIRECTION = EAST
  CENTER_LATITUDE = 0.0
  CENTER_LONGITUDE = 180.0
  REFERENCE_LATITUDE = N/A
  REFERENCE_LONGITUDE = N/A
  LINE_FIRST_PIXEL = 1
  LINE_LAST_PIXEL = 10800
  SAMPLE_FIRST_PIXEL = 1
  SAMPLE_LAST_PIXEL = 21600
  MAP_PROJECTION_ROTATION = 0.0
  MAP_RESOLUTION = 60.0
  MAP_SCALE = 136.717458
  MAXIMUM_LATITUDE = 90.0
  MINIMUM_LATITUDE = -90.0
  EASTERNMOST_LONGITUDE = 360.0
  WESTERNMOST_LONGITUDE = 0.0
  LINE_PROJECTION_OFFSET = 5399.500003949752
  SAMPLE_PROJECTION_OFFSET = 10799.500007899504
  COORDINATE_SYSTEM_TYPE = "BODY-FIXED ROTATING"
  COORDINATE_SYSTEM_NAME = PLANETOCENTRIC
  PROJECTION_LATITUDE_TYPE = PLANETOCENTRIC
END_OBJECT = IMAGE_MAP_PROJECTION
END
